BEGIN:VCALENDAR
VERSION:2.0
PRODID:-//wp-events-plugin.com//7.2.3.1//EN
TZID:Europe/Zurich
X-WR-TIMEZONE:Europe/Zurich
BEGIN:VEVENT
UID:20@norton-club.ch
DTSTART;TZID=Europe/Zurich:20250917T203000
DTEND;TZID=Europe/Zurich:20250917T223000
DTSTAMP:20250902T192122Z
URL:https://www.norton-club.ch/evenements/2eme-date-pour-linscription-cour
 se-de-cote-de-verbois-pour-les-membres-du-club/
SUMMARY:2éme date pour l'inscription à la course de côte de Verbois pour
  les membres du club
DESCRIPTION:
ATTACH;FMTTYPE=image/jpeg:https://www.norton-club.ch/wp-content/uploads/20
 24/05/logo_verbois_circuit_blanc_sur_noir1.jpg
CATEGORIES:Verbois
LOCATION:Brasserie Carougeoise\, Rue des Noirettes 32\, Carouge\, 1227\, Su
 isse
X-APPLE-STRUCTURED-LOCATION;VALUE=URI;X-ADDRESS=Rue des Noirettes 32\, Caro
 uge\, 1227\, Suisse;X-APPLE-RADIUS=100;X-TITLE=Brasserie Carougeoise:geo:0
 ,0
END:VEVENT
BEGIN:VTIMEZONE
TZID:Europe/Zurich
X-LIC-LOCATION:Europe/Zurich
BEGIN:DAYLIGHT
DTSTART:20250330T030000
TZOFFSETFROM:+0100
TZOFFSETTO:+0200
TZNAME:CEST
END:DAYLIGHT
END:VTIMEZONE
END:VCALENDAR