BEGIN:VCALENDAR
VERSION:2.0
PRODID:-//wp-events-plugin.com//7.2.3.1//EN
TZID:Europe/Zurich
X-WR-TIMEZONE:Europe/Zurich
BEGIN:VEVENT
UID:26@norton-club.ch
DTSTART;TZID=Europe/Zurich;VALUE=DATE:20260424
DTEND;TZID=Europe/Zurich;VALUE=DATE:20260426
DTSTAMP:20260320T113558Z
URL:https://www.norton-club.ch/evenements/sortie-circuit-ales-2/
SUMMARY:Sortie circuit Alès
DESCRIPTION:S'inscrire à la sortie circuit\n\nEmplacement\n\nLe plus fun d
 es petits circuits\, notre coup de cœur !\nAvec ses 2500m de bitume lisse
 \, il reste très attractif même en 1000cc.\nIdéalement situé au pôle 
 mécanique d'Alès-Cèvennes\, il bénéficie d'une situation favorable qu
 i permet d'excellentes conditions de roulage.
ATTACH;FMTTYPE=image/jpeg:https://www.norton-club.ch/wp-content/uploads/20
 25/02/Circuit_Ales.png
CATEGORIES:Sorties circuit
LOCATION:Circuit Alès (Pôle mécanique Alès Cévennes)\, Vallon de\, CR 
 Valat de Fontanes\, Saint-Martin-de-Valgalgues\, 30520\, France
X-APPLE-STRUCTURED-LOCATION;VALUE=URI;X-ADDRESS=Vallon de\, CR Valat de Fon
 tanes\, Saint-Martin-de-Valgalgues\, 30520\, France;X-APPLE-RADIUS=100;X-T
 ITLE=Circuit Alès (Pôle mécanique Alès Cévennes):geo:0,0
END:VEVENT
BEGIN:VTIMEZONE
TZID:Europe/Zurich
X-LIC-LOCATION:Europe/Zurich
BEGIN:DAYLIGHT
DTSTART:20260329T030000
TZOFFSETFROM:+0100
TZOFFSETTO:+0200
TZNAME:CEST
END:DAYLIGHT
END:VTIMEZONE
END:VCALENDAR